Workbook

Sheet Főösszesítő
A1: Lajosmizse Város Polgármesteri
A2: 6050 Lajosmizse, Városház tér 1.
A3: Tel.:
A4: Fax:
A6: Adószám :
A8: Név:
A10: Cím: | C10: Kelt: 2017. év. 00. hó 00. nap
C11: Szám :.............
C12: KSH besorolás:.....................
C13: Teljesítés:2017 év...........hó...nap
A14: A munka leírása: | C14: Készítette:
A15: Lajosmizse, Óvodák felújítási munkái.
A16: 6050 Lajosmizse, Városház tér 1.
A18: 3. SZENT LAJOS u-i ÓVODA
A21: Költségvetés főösszesítő
A22: Megnevezés | C22: Anyagköltség | D22: Díjköltség
A23: 1. Építmény közvetlen költségei | C23: =Összesen!B11 -> 0 | D23: =Összesen!C11 -> 0
A24: 1.1 Közvetlen önköltség összesen | C24: =C23 -> 0 | D24: =D23 -> 0
A25: 2.1 ÁFA vetítési alap | C25: =ROUND(C24+D24,0) -> 0
A26: 2.2 Áfa | B26: 0.27 | C26: =ROUND(C25*B26,0) -> 0
A27: 3. A munka ára | C27: =ROUND(C25+C26,0) -> 0
B37: Aláírás

Sheet Összesen
A1: Munkanem megnevezése | B1: Anyag összege | C1: Díj összege
A2: 3. SZENT LAJOS u-i ÓVODA MUNKÁI
A3: Villanyszerelés, vezetékek lámpák, szerelvények cseréje | B3: ='Villanyszerelés, vezetékek lámp'!H87 -> 0 | C3: ='Villanyszerelés, vezetékek lámp'!I87 -> 0
A4: Melegpadló burkolatok készítése, felújítása | B4: ='Melegpadló burkolatok készítése'!H23 -> 0 | C4: ='Melegpadló burkolatok készítése'!I23 -> 0
A5: Folyosó kerámia burkolat cseréje | B5: ='Folyosó kerámia burkolat cseréj'!H37 -> 0 | C5: ='Folyosó kerámia burkolat cseréj'!I37 -> 0
A6: Sötétítő rolók beépítése utcai ablakokra | B6: ='Sötétítő rolók beépítése utcai '!H7 -> 0 | C6: ='Sötétítő rolók beépítése utcai '!I7 -> 0
A7: Riasztó rendszer szerelése | B7: ='Riasztó rendszer szerelése'!H18 -> 0 | C7: ='Riasztó rendszer szerelése'!I18 -> 0
A8: Felületképzés, festés, mázolás | B8: ='Felületképzés, festés, mázolás'!H10 -> 0 | C8: ='Felületképzés, festés, mázolás'!I10 -> 0
A9: Akadálymentesítés | B9: =Akadálymentesítés!H6 -> 0 | C9: =Akadálymentesítés!I6 -> 0
A10: Riasztó rendszer szerelése (bölcsőde) | B10: ='Riasztó rendszer'!H18 -> 0 | C10: ='Riasztó rendszer'!I18 -> 0
A11: Összesen | B11: =SUM(B3:B10) -> 0 | C11: =SUM(C3:C10) -> 0
A12: Mind összesen | B12: =(B11 + C11) -> 0

Sheet Villanyszerelés, vezetékek lámp
B1: Villanyszerelés, vezetékek lámpák, szerelvények cseréje
A2: Ssz. | B2: Tételszám | C2: Tétel szövege | D2: Menny. | E2: Egység | F2: Anyag egységár | G2: Díj egységre | H2: Anyag összesen | I2: Díj összesen
A4: 1 | B4: K-tétel | C4: STM LUX 2 x 58 w - os fénycső armatúra szerelés | D4: 36 | E4: db | F4: 0 | G4: 0 | H4: =(D4*F4) -> 0 | I4: =(D4*G4) -> 0
A6: 2 | B6: K-tétel | C6: STM LUX 2 x 58 w - os fénycső armatúra szerelés /INVERTERES | D6: 4 | E6: db | F6: 0 | G6: 0 | H6: =(D6*F6) -> 0 | I6: =(D6*G6) -> 0
C8: Fénycső szerelése két foglalattal, SIMOTRADE 58 W 830,
A9: 3 | B9: K-tétel | C9: 840 3 sávos | D9: 82 | E9: db | F9: 0 | G9: 0 | H9: =(D9*F9) -> 0 | I9: =(D9*G9) -> 0
C11: SIMOVILL gyártmányú por- és páramentes fénycsöves lámpatest műanyag testtel, műanyag búrával, előre elkészített
A12: 4 | B12: K-tétel | C12: tartószerkezetre szerelve PER-258 2x58 W | D12: 1 | E12: db | F12: 0 | G12: 0 | H12: =(D12*F12) -> 0 | I12: =(D12*G12) -> 0
A14: 5 | B14: K-tétel | C14: 100 w- os lámpa szerelés + ledes izzó | D14: 7 | E14: db | F14: 0 | G14: 0 | H14: =(D14*F14) -> 0 | I14: =(D14*G14) -> 0
A16: 6 | B16: K-tétel | C16: Kijárat mutató /ECOGLASSE LEDES / | D16: 8 | E16: db | F16: 0 | G16: 0 | H16: =(D16*F16) -> 0 | I16: =(D16*G16) -> 0
A18: 7 | B18: K-tétel | C18: Kijárat mutató /ECOGLASSE LEDES / + függeszték | D18: 2 | E18: db | F18: 0 | G18: 0 | H18: =(D18*F18) -> 0 | I18: =(D18*G18) -> 0
A20: 8 | B20: K-tétel | C20: V STAS 2x26 w-os mélysugárzó szerelés üveg lappal | D20: 7 | E20: db | F20: 0 | G20: 0 | H20: =(D20*F20) -> 0 | I20: =(D20*G20) -> 0
C22: V STAS 2x26 w-os mélysugárzó szerelés üveg lappal
A23: 9 | B23: K-tétel | C23: V inverteres | D23: 2 | E23: db | F23: 0 | G23: 0 | H23: =(D23*F23) -> 0 | I23: =(D23*G23) -> 0
A25: 10 | B25: K-tétel | C25: 26 w - os compack fénycső szerelés | D25: 18 | E25: db | F25: 0 | G25: 0 | H25: =(D25*F25) -> 0 | I25: =(D25*G25) -> 0
A27: 11 | B27: K-tétel | C27: 38 w os BRIO lámpa szerelés | D27: 2 | E27: db | F27: 0 | G27: 0 | H27: =(D27*F27) -> 0 | I27: =(D27*G27) -> 0
A29: 12 | B29: K-tétel | C29: Csőinga armatúra tartó szerelés | D29: 80 | E29: db | F29: 0 | G29: 0 | H29: =(D29*F29) -> 0 | I29: =(D29*G29) -> 0
C31: LEGRAND kapcsoló szerelése süllyesztetten, fészekvéséssel, doboz elhelyezéssel, bekötéssel, keret nélkül 10 A, 250 V, VALENA típusú mechanizmus fedéllel elefántcsont színű
A32: 13 | B32: K-tétel | C32: kétpólusú, kat.szám:774302 | D32: 13 | E32: db | F32: 0 | G32: 0 | H32: =(D32*F32) -> 0 | I32: =(D32*G32) -> 0
C34: PRODAX ARCUS szerelvényekhez rugós bekötésű kapcsolóbetét szerelése fedéllel, kerettel, süllyesztetten, fészekvéséssel, doboz elhelyezéssel, bekötéssel, 10A, 250V, fehér és krém színben alternatív
A35: 14 | B35: K-tétel | C35: (váltó) Pdk2-106 rkb2 + Pb-1.2 + Pk-1.2 | D35: 10 | E35: db | F35: 0 | G35: 0 | H35: =(D35*F35) -> 0 | I35: =(D35*G35) -> 0
C37: LEGRAND TV-RD-SAT antenna csatlakozóaljzat szerelése süllyesztetten, fészekvéséssel, doboz elhelyezéssel, bekötéssel, keret nélkül, VALENA típusú mechanizmus fedéllel
A38: 15 | B38: K-tétel | C38: elefántcsont színű csillagpontos, kat.szám:774335 | D38: 5 | E38: db | F38: 0 | G38: 0 | H38: =(D38*F38) -> 0 | I38: =(D38*G38) -> 0
C40: LEGRAND 2P+F földelt csatlakozóaljzat szerelése süllyesztetten, fészekvéséssel, doboz elhelyezéssel, bekötéssel, keret nélkül, 16 A, 250 V, VALENA típusú mechanizmus fedéllel fehér színű 2p+F gyerekvédelemmel,
A41: 16 | B41: K-tétel | C41: kat.szám:774421 | D41: 34 | E41: db | F41: 0 | G41: 0 | H41: =(D41*F41) -> 0 | I41: =(D41*G41) -> 0
C43: LEGRAND süllyesztetten elhelyezett szerelvényhez keret felszerelése (szerelési ideje a kapcsoló, aljzat szerelési idejében szerepel) VALENA típusú fehér keret fehér díszítő
A44: 17 | B44: K-tétel | C44: csíkkal egyes keret, kat.szám:774451 | D44: 60 | E44: db | F44: 0 | G44: 0 | H44: =(D44*F44) -> 0 | I44: =(D44*G44) -> 0
A46: 18 | B46: K-tétel | C46: Fészekvésés dobozozok részére téglafalban 65 mm | D46: 60 | E46: db | F46: 0 | G46: 0 | H46: =(D46*F46) -> 0 | I46: =(D46*G46) -> 0
A48: 19 | B48: K-tétel | C48: Fészekvésés dobozok részére téglafalban 80 mm | D48: 40 | E48: db | F48: 0 | G48: 0 | H48: =(D48*F48) -> 0 | I48: =(D48*G48) -> 0
A50: 20 | B50: K-tétel | C50: Fészekvésés téglafalban 100x100 mm | D50: 25 | E50: db | F50: 0 | G50: 0 | H50: =(D50*F50) -> 0 | I50: =(D50*G50) -> 0
C52: MÜ III. jelű műanyag védőcső szerelése horonyba, elágazó
A53: 21 | B53: K-tétel | C53: dobozokkal, horonyvéséssel 16,0 mm átm. | D53: 300 | E53: m | F53: 0 | G53: 0 | H53: =(D53*F53) -> 0 | I53: =(D53*G53) -> 0
C55: MÜ III. jelű műanyag védőcső szerelése horonyba, elágazó
A56: 22 | B56: K-tétel | C56: dobozokkal, horonyvéséssel 23,0 mm átm. | D56: 100 | E56: m | F56: 0 | G56: 0 | H56: =(D56*F56) -> 0 | I56: =(D56*G56) -> 0
C58: Szigetelt vezeték elhelyezése védőcsőbe húzva, vagy vezetékcsatornába fektetve, rézvezetővel, leágazó kötésekkel, szigetelés ellenállás méréssel VLG HO7V-U
A59: 23 | B59: K-tétel | C59: 450/750 V (Mcu) tömör rézvezeték PVC szigeteléssel 1.50 mm2 | D59: 1100 | E59: m | F59: 0 | G59: 0 | H59: =(D59*F59) -> 0 | I59: =(D59*G59) -> 0
C61: Szigetelt vezeték elhelyezése védőcsőbe húzva, vagy vezetékcsatornába fektetve, rézvezetővel, leágazó kötésekkel, szigetelés ellenállás méréssel EURO-KÁBEL HO7V-K 450/750 V (Mkh) f,k,z/s sodrott rézvezeték PVC
A62: 24 | B62: K-tétel | C62: szigeteléssel 2,5 mm2 | D62: 500 | E62: m | F62: 0 | G62: 0 | H62: =(D62*F62) -> 0 | I62: =(D62*G62) -> 0
C64: Kábelszerű vezeték elhelyezése 1-12 erű rézvezetővel, elágazó dobozokkal és kötésekkel, szigetelés ellenállás méréssel, előre beépített tartószerkezetre EURO-KÁBEL NYM-J
A65: 25 | B65: K-tétel | C65: 300/500 V (MBcu) PVC köpenyes rézvezeték 3 x 1,5 mm2 | D65: 180 | E65: m | F65: 0 | G65: 0 | H65: =(D65*F65) -> 0 | I65: =(D65*G65) -> 0
...

Sheet Melegpadló burkolatok készítése
B1: Melegpadló burkolatok készítése, felújítása
A2: Ssz. | B2: Tételszám | C2: Tétel szövege | D2: Menny. | E2: Egység | F2: Anyag egységár | G2: Díj egységre | H2: Anyag összesen | I2: Díj összesen
A4: 1 | B4: 42-000-430 | C4: Gumilemez vagy PVC burkolat bontása | D4: 190.35 | E4: m2 | F4: 0 | G4: 0 | H4: =(D4*F4) -> 0 | I4: =(D4*G4) -> 0
A6: 2 | B6: 42-000-492 | C6: Linóleum lábazati szegély bontása | D6: 113 | E6: m | F6: 0 | G6: 0 | H6: =(D6*F6) -> 0 | I6: =(D6*G6) -> 0
C8: Aljzatkiegyenlítés készítése belső térben, önterülő padlókiegyenlítővel, max. 3 mm vastagságban padlón, vízszintes felületen
A9: 3 | B9: 42-061-021-004-70-00110 | C9: (linoleum burkolat alatt) | D9: 147.5 | E9: m2 | F9: 0 | G9: 0 | H9: =(D9*F9) -> 0 | I9: =(D9*G9) -> 0
C11: Aljzatkiegyenlítés készítése belső térben, önterülő padlókiegyenlítővel, 3 mm vastagságban padlón, vízszintes felületen
A12: 4 | B12: 42-061-021-004-70-00110 | C12: (Sport linoleum burkolat alatt) speciális segédanyaggal | D12: 42.85 | E12: m2 | F12: 0 | G12: 0 | H12: =(D12*F12) -> 0 | I12: =(D12*G12) -> 0
C14: Linoleum burkolat készítése, illesztések kihegesztésével és a saját
A15: 5 | B15: K-tétel | C15: anyagából felhajtott lábazattal együtt, 2,5 mm vastagságban pl: ARMSTRONG DLW MARMORETTE LPX, vagy ezzel egyenértékű | D15: 147.5 | E15: m2 | F15: 0 | G15: 0 | H15: =(D15*F15) -> 0 | I15: =(D15*G15) -> 0
C17: Regupol 6 mm vastagságú alátétréteg fektetése, kiegyenlített aljzatra,
A18: 6 | B18: K-tétel | C18: linóleum sportpadló alatt | D18: 42.85 | E18: m2 | F18: 0 | G18: 0 | H18: =(D18*F18) -> 0 | I18: =(D18*G18) -> 0
C20: Linóleum sportpadló fektetése, illesztések kihegesztésével és a saját anyagából állított lábazattal együtt, 4 mm vastagságban
A21: 7 | B21: K-tétel | C21: pl: ARMSTRONG DLW Linodur Sport, vagy ezzel egyenértékű | D21: 42.85 | E21: m2 | F21: 0 | G21: 0 | H21: =(D21*F21) -> 0 | I21: =(D21*G21) -> 0
C23: Munkanem összesen: | H23: =SUM(H4:H21) -> 0 | I23: =SUM(I4:I21) -> 0

Sheet Folyosó kerámia burkolat cseréj
B1: Folyosó kerámia burkolat cseréje
A2: Ssz. | B2: Tételszám | C2: Tétel szövege | D2: Menny. | E2: Egység | F2: Anyag egységár | G2: Díj egységre | H2: Anyag összesen | I2: Díj összesen
C4: Lapburkolatok bontása, padlóburkolat bármely méretű kőagyag, mozaik vagy
A5: 1 | B5: 42-000-2.1 | C5: tört mozaik lapból | D5: 75 | E5: m2 | F5: 0 | G5: 0 | H5: =(D5*F5) -> 0 | I5: =(D5*G5) -> 0
C7: Lapburkolatok bontása, lábazatburkolat 0,50 m magasságig, egyenes egysoros vagy lépcsős kivitelben,
A8: 2 | B8: 42-000-2.3 | C8: 10x10 - 20x20 cm-es lapméretig | D8: 49.5 | E8: m | F8: 0 | G8: 0 | H8: =(D8*F8) -> 0 | I8: =(D8*G8) -> 0
C10: Vakolatok pótlása, keskenyvakolatok pótlása
A11: 3 | B11: 36-090-2.1.1 | C11: oldalfalon, 10 cm szélességig | D11: 49.5 | E11: m | F11: 0 | G11: 0 | H11: =(D11*F11) -> 0 | I11: =(D11*G11) -> 0
C13: Felület-előkészítés meglévő cementkötésű aljzat tisztítása, laza vagy szennyezett felületrészek eltávolítása,
A14: 4 | B14: 31-032-1.1.2 | C14: 3 mm vastagságig, betoncsiszolóval | D14: 75 | E14: m2 | F14: 0 | G14: 0 | H14: =(D14*F14) -> 0 | I14: =(D14*G14) -> 0
C16: Felület-előkészítés alapfelület előkészítése (kellősítése) műanyagbázisú alapozóval, hengerrel felhordva, 1 rétegben
A17: 5 | B17: 31-032-1.3.1-0415916 | C17: Mélyalapozó | D17: 75 | E17: m2 | F17: 0 | G17: 0 | H17: =(D17*F17) -> 0 | I17: =(D17*G17) -> 0
C19: Kontaktesztrich készítése kézi feldolgozással, cementbázisú esztrichből
A20: 6 | B20: 31-032-2.1.2.1-0215094 | C20: max 3,0 cm vastagságban | D20: 75 | E20: m2 | F20: 0 | G20: 0 | H20: =(D20*F20) -> 0 | I20: =(D20*G20) -> 0
C22: Padlóburkolat hordozószerkezetének felületelőkészítése beltérben, beton
A23: 7 | B23: 42-011-2.1.1.1-0151721 | C23: alapfelületen felületelőkészítő alapozó és tapadóhíd felhordása egy rétegben | D23: 75 | E23: m2 | F23: 0 | G23: 0 | H23: =(D23*F23) -> 0 | I23: =(D23*G23) -> 0
C25: Padlóburkolat készítése, beltérben, tégla, beton, vakolt alapfelületen, mázas kerámiával, kötésben vagy hálósan, 3-5 mm vtg. ragasztóba rakva, 1-10 mm fugaszélességgel, 10x10 - 20x20 cm közötti lapmérettel
A26: 8 | B26: 42-022-1.1.1.1.1.2 | C26: cementkötésű ragasztóhabarcs, szürke, Flex fugázó, fehér | D26: 75 | E26: m2 | F26: 0 | G26: 0 | H26: =(D26*F26) -> 0 | I26: =(D26*G26) -> 0
C28: Lábazatburkolat készítése, beltérben, mázas kerámiával, egyenes, egysoros kivitelben, 3-5 mm ragasztóba rakva, 1-10 mm fugaszélességgel, 10 cm magasságig, 10x20 - 20×20 cm közötti lapmérettel ragasztó, fagyálló,
A29: 9 | B29: 42-022-2.1.1.1.2-0212002 | C29: fugázó, fehér | D29: 49.5 | E29: m | F29: 0 | G29: 0 | H29: =(D29*F29) -> 0 | I29: =(D29*G29) -> 0
C31: Építési törmelék konténeres elszállítása, lerakása, lerakóhelyi díjjal,
A32: 10 | B32: 21-011-11.3 | C32: 5,0 m3-es konténerbe | D32: 2 | E32: db | F32: 0 | G32: 0 | H32: =(D32*F32) -> 0 | I32: =(D32*G32) -> 0
C34: Munkahelyi depóniából építési törmelék konténerbe rakása, kézi erővel, önálló munka esetén elszámolva,
A35: 11 | B35: 21-011-12 | C35: konténer szállítás nélkül | D35: 10 | E35: m3 | F35: 0 | G35: 0 | H35: =(D35*F35) -> 0 | I35: =(D35*G35) -> 0
C37: Munkanem összesen: | H37: =SUM(H5:H35) -> 0 | I37: =SUM(I5:I35) -> 0

Sheet Sötétítő rolók beépítése utcai 
B1: Sötétítő rolók beépítése utcai ablakokra
A2: Ssz. | B2: Tételszám | C2: Tétel szövege | D2: Menny. | E2: Egység | F2: Anyag egységár | G2: Díj egységre | H2: Anyag összesen | I2: Díj összesen
C4: Rugós roletta tokozat nélkül + kiakasztókkal, fényzáró anyaggal
A5: 1 | B5: K-tétel | C5: 115/200 cm-es méretben | D5: 15 | E5: db | F5: 0 | G5: 0 | H5: =(D5*F5) -> 0 | I5: =(D5*G5) -> 0
C7: Munkanem összesen: | H7: =H5 -> 0 | I7: =I5 -> 0

Sheet Riasztó rendszer szerelése
B1: Riasztó rendszer szerelése
A2: Ssz. | B2: Tételszám | C2: Tétel szövege | D2: Menny. | E2: Egység | F2: Anyag egységár | G2: Díj egységre | H2: Anyag összesen | I2: Díj összesen
A4: 1 | B4: K-tétel | C4: SP riasztó központ bővíthető, LCD kezelővel, trafóval, akkuval | D4: 1 | E4: db | F4: 0 | G4: 0 | H4: =(D4*F4) -> 0 | I4: =(D4*G4) -> 0
A6: 2 | B6: K-tétel | C6: Riasztó kábel | D6: 500 | E6: m | F6: 0 | G6: 0 | H6: =(D6*F6) -> 0 | I6: =(D6*G6) -> 0
A8: 3 | B8: K-tétel | C8: Mozgásérzékelő tartóval | D8: 10 | E8: db | F8: 0 | G8: 0 | H8: =(D8*F8) -> 0 | I8: =(D8*G8) -> 0
A10: 4 | B10: K-tétel | C10: Kültéri sziréna | D10: 1 | E10: db | F10: 0 | G10: 0 | H10: =(D10*F10) -> 0 | I10: =(D10*G10) -> 0
A12: 5 | B12: K-tétel | C12: Gégecső | D12: 150 | E12: m | F12: 0 | G12: 0 | H12: =(D12*F12) -> 0 | I12: =(D12*G12) -> 0
A14: 6 | B14: K-tétel | C14: Segéd tápegység akkuval dobozban | D14: 1 | E14: db | F14: 0 | G14: 0 | H14: =(D14*F14) -> 0 | I14: =(D14*G14) -> 0
A16: 7 | B16: K-tétel | C16: Szerelési segédanyag | D16: 1 | E16: klt | F16: 0 | G16: 0 | H16: =(D16*F16) -> 0 | I16: =(D16*G16) -> 0
C18: Munkanem összesen: | H18: =SUM(H4:H16) -> 0 | I18: =SUM(I4:I16) -> 0

Sheet Felületképzés, festés, mázolás
B1: Felületképzés, festés, mázolás
A2: Ssz. | B2: Tételszám | C2: Tétel szövege | D2: Menny. | E2: Egység | F2: Anyag egységár | G2: Díj egységre | H2: Anyag összesen | I2: Díj összesen
C4: Falsimítás műanyag kötőanyagú készítménnyel, 1,5 mm vastagságig, felülettisztítással, portalanítással, sarkok, élek legömbölyítésével, csiszolással, Baumit meszes glettel, vagy azzal egyenértékű,
A5: 1 | B5: 47-151-001-001-34-14110 | C5: vakolt felületen (csak javítás szükség szerint max 20 % felületen) | D5: 775 | E5: m2 | F5: 0 | G5: 0 | H5: =(D5*F5) -> 0 | I5: =(D5*G5) -> 0
C7: Festés műanyagbázisú diszperziós beltéri falfestékkel, két rétegben, a felület megtisztításával, kaparással, dörzsöléssel, lemosással, tapaszolással,
A8: 2 | B8: M-47-141-001-001-13-61120 | C8: vakolt felületen, fehér színben | D8: 775 | E8: m2 | F8: 0 | G8: 0 | H8: =(D8*F8) -> 0 | I8: =(D8*G8) -> 0
C10: Munkanem összesen: | H10: =SUM(H5:H8) -> 0 | I10: =SUM(I5:I8) -> 0

Sheet Akadálymentesítés
B1: Akadálymentesítés
A2: Ssz. | B2: Tételszám | C2: Tétel szövege | D2: Menny. | E2: Egység | F2: Anyag egységár | G2: Díj egységre | H2: Anyag összesen | I2: Díj összesen
A4: 1 | B4: K-tétel | C4: Épület akadálymentesítése, Akadálymentesítési dokumentációban leírtak alapján | D4: 1 | E4: klt | F4: 0 | G4: 0 | H4: =(D4*F4) -> 0 | I4: =(D4*G4) -> 0
C6: Munkanem összesen: | H6: =H4 -> 0 | I6: =I4 -> 0

Sheet Riasztó rendszer
B1: Riasztó rendszer szerelése
A2: Ssz. | B2: Tételszám | C2: Tétel szövege | D2: Menny. | E2: Egység | F2: Anyag egységár | G2: Díj egységre | H2: Anyag összesen | I2: Díj összesen
A4: 1 | B4: K-tétel | C4: SP riasztó központ bővíthető, LCD kezelővel, trafóval, akkuval | D4: 1 | E4: db | F4: 0 | G4: 0 | H4: =(D4*F4) -> 0 | I4: =(D4*G4) -> 0
A6: 2 | B6: K-tétel | C6: 8 zónás bővítő modul | D6: 1 | E6: db | F6: 0 | G6: 0 | H6: =(D6*F6) -> 0 | I6: =(D6*G6) -> 0
A8: 3 | B8: K-tétel | C8: Riasztó kábel | D8: 700 | E8: m | F8: 0 | G8: 0 | H8: =(D8*F8) -> 0 | I8: =(D8*G8) -> 0
A10: 4 | B10: K-tétel | C10: Mozgásérzékelő tartóval | D10: 16 | E10: db | F10: 0 | G10: 0 | H10: =(D10*F10) -> 0 | I10: =(D10*G10) -> 0
A12: 5 | B12: K-tétel | C12: Kültéri sziréna | D12: 1 | E12: db | F12: 0 | G12: 0 | H12: =(D12*F12) -> 0 | I12: =(D12*G12) -> 0
A14: 6 | B14: K-tétel | C14: Segéd tápegység akkuval dobozban | D14: 1 | E14: db | F14: 0 | G14: 0 | H14: =(D14*F14) -> 0 | I14: =(D14*G14) -> 0
A16: 7 | B16: K-tétel | C16: Szerelési segédanyag | D16: 1 | E16: klt | F16: 0 | G16: 0 | H16: =(D16*F16) -> 0 | I16: =(D16*G16) -> 0
C18: Munkanem összesen: | H18: =SUM(H4:H16) -> 0 | I18: =SUM(I4:I16) -> 0
